BEGIN:VCALENDAR
VERSION:2.0
PRODID:-//hacksw/handcal//NONSGML v1.0//EN
BEGIN:VEVENT
DTSTAMP:20221123T090000Z
DTSTART:20221123T090000Z
DTEND:20221123T090000Z
SUMMARY:Plenartagung Schleswig-Holsteinischer Landtag
END:VEVENT
END:VCALENDAR
