BEGIN:VCALENDAR
VERSION:2.0
PRODID:-//hacksw/handcal//NONSGML v1.0//EN
BEGIN:VEVENT
DTSTAMP:20221122T183000Z
DTSTART:20221122T183000Z
DTEND:20221122T183000Z
SUMMARY:Mitgliederversammlung OV Hamwarde mit Wahlen zum Vorstand
END:VEVENT
END:VCALENDAR
