BEGIN:VCALENDAR
VERSION:2.0
PRODID:-//hacksw/handcal//NONSGML v1.0//EN
BEGIN:VEVENT
DTSTAMP:20221117T180000Z
DTSTART:20221117T180000Z
DTEND:20221117T180000Z
SUMMARY:Mitgliederversammlung Kreistagskandidat für den Wahlkreis Hohe Elbgeest 2
END:VEVENT
END:VCALENDAR
