BEGIN:VCALENDAR
VERSION:2.0
PRODID:-//hacksw/handcal//NONSGML v1.0//EN
BEGIN:VEVENT
DTSTAMP:20221213T160000Z
DTSTART:20221213T160000Z
DTEND:20221213T160000Z
SUMMARY:Weihnachtsfeier CDU-Landtagsfraktion
END:VEVENT
END:VCALENDAR
