BEGIN:VCALENDAR
VERSION:2.0
PRODID:-//hacksw/handcal//NONSGML v1.0//EN
BEGIN:VEVENT
DTSTAMP:20221208T130000Z
DTSTART:20221208T130000Z
DTEND:20221208T130000Z
SUMMARY:Sozialausschuss Landtag: Anhörung öffentlicher Gesundheitsdienst
END:VEVENT
END:VCALENDAR
