BEGIN:VCALENDAR
VERSION:2.0
PRODID:-//hacksw/handcal//NONSGML v1.0//EN
BEGIN:VEVENT
DTSTAMP:20221124T130000Z
DTSTART:20221124T130000Z
DTEND:20221124T130000Z
SUMMARY:Gemeinsamer FAK Soziales und Bildung
END:VEVENT
END:VCALENDAR
