BEGIN:VCALENDAR
VERSION:2.0
PRODID:-//hacksw/handcal//NONSGML v1.0//EN
BEGIN:VEVENT
DTSTAMP:20221122T183000Z
DTSTART:20221122T183000Z
DTEND:20221122T183000Z
LOCATION:Schröders Hotel, gr. Saal, Compestr. 6, Schwarzenbek, Deutschland
SUMMARY:Verleihung Wirtschaftspreis WVS
END:VEVENT
END:VCALENDAR
