BEGIN:VCALENDAR
VERSION:2.0
PRODID:-//hacksw/handcal//NONSGML v1.0//EN
BEGIN:VEVENT
DTSTAMP:20221122T100000Z
DTSTART:20221122T100000Z
DTEND:20221122T100000Z
SUMMARY:Sitzung des erweiterten Fraktionsvorstandes
END:VEVENT
END:VCALENDAR
