BEGIN:VCALENDAR
VERSION:2.0
PRODID:-//hacksw/handcal//NONSGML v1.0//EN
BEGIN:VEVENT
DTSTAMP:20221121T093000Z
DTSTART:20221121T093000Z
DTEND:20221121T093000Z
LOCATION:Barlachstr. 2, Ratzeburg, Deutschland
SUMMARY:Gespräch mit Landrat Dr. Mager
END:VEVENT
END:VCALENDAR
