BEGIN:VCALENDAR
VERSION:2.0
PRODID:-//hacksw/handcal//NONSGML v1.0//EN
BEGIN:VEVENT
DTSTAMP:20221118T150000Z
DTSTART:20221118T150000Z
DTEND:20221119T120000Z
SUMMARY:Klausurtagung CDU-Kreistagsfraktion Herzogtum Lauenburg
END:VEVENT
END:VCALENDAR
