BEGIN:VCALENDAR
VERSION:2.0
PRODID:-//hacksw/handcal//NONSGML v1.0//EN
BEGIN:VEVENT
DTSTAMP:20221114T090000Z
DTSTART:20221114T090000Z
DTEND:20221114T090000Z
LOCATION:Reeperbahn 6, Lauenburg/Elbe, Deutschland
SUMMARY:Gespräch Askanierhaus Lauenburg: Thema Pflege
END:VEVENT
END:VCALENDAR
