BEGIN:VCALENDAR
VERSION:2.0
PRODID:-//hacksw/handcal//NONSGML v1.0//EN
BEGIN:VEVENT
DTSTAMP:20221112T140000Z
DTSTART:20221112T140000Z
DTEND:20221112T140000Z
LOCATION:Medaillongebäude der Stiftung Herzogtum Lauenburg, Hauptstraße 150, Mölln, Deutschland
SUMMARY:Eröffnung der Ausstellung des LKV "Was sind wir? Wo wollen wir hin?"
END:VEVENT
END:VCALENDAR
