BEGIN:VCALENDAR
VERSION:2.0
PRODID:-//hacksw/handcal//NONSGML v1.0//EN
BEGIN:VEVENT
DTSTAMP:20221111T100000Z
DTSTART:20221111T100000Z
DTEND:20221111T100000Z
SUMMARY:FAK Soziales: Gespräch (digital) mit Malteser-Diakonie-Klinikum
END:VEVENT
END:VCALENDAR
