BEGIN:VCALENDAR
VERSION:2.0
PRODID:-//hacksw/handcal//NONSGML v1.0//EN
BEGIN:VEVENT
DTSTAMP:20221111T090000Z
DTSTART:20221111T090000Z
DTEND:20221111T090000Z
SUMMARY:Besuch Ratzeburg Tafel e.V. und Gespräch
END:VEVENT
END:VCALENDAR
