BEGIN:VCALENDAR
VERSION:2.0
PRODID:-//hacksw/handcal//NONSGML v1.0//EN
BEGIN:VEVENT
DTSTAMP:20221109T103000Z
DTSTART:20221109T103000Z
DTEND:20221109T103000Z
SUMMARY:FAK Soziales: Gespräch mit Echte Vielfalt
END:VEVENT
END:VCALENDAR
