BEGIN:VCALENDAR
VERSION:2.0
PRODID:-//hacksw/handcal//NONSGML v1.0//EN
BEGIN:VEVENT
DTSTAMP:20221108T100000Z
DTSTART:20221108T100000Z
DTEND:20221108T100000Z
SUMMARY:Erweiterter Fraktionsvorstand Landtagsfraktion 
END:VEVENT
END:VCALENDAR
