BEGIN:VCALENDAR
VERSION:2.0
PRODID:-//hacksw/handcal//NONSGML v1.0//EN
BEGIN:VEVENT
DTSTAMP:20221108T083000Z
DTSTART:20221108T083000Z
DTEND:20221108T083000Z
SUMMARY:GAK Zusammenarbeit SH und HH
END:VEVENT
END:VCALENDAR
