BEGIN:VCALENDAR
VERSION:2.0
PRODID:-//hacksw/handcal//NONSGML v1.0//EN
BEGIN:VEVENT
DTSTAMP:20221107T100000Z
DTSTART:20221107T100000Z
DTEND:20221107T100000Z
SUMMARY:Gespräch Hitzler Werft GmbH in Lauenburg
END:VEVENT
END:VCALENDAR
