BEGIN:VCALENDAR
VERSION:2.0
PRODID:-//hacksw/handcal//NONSGML v1.0//EN
BEGIN:VEVENT
DTSTAMP:20221104T180000Z
DTSTART:20221104T180000Z
DTEND:20221104T180000Z
LOCATION:Sport- und Jugendheim Aumühle, Aumühle, Deutschland
SUMMARY:MGV CDU Aumühle: Wahl von 9 Kandidatinnen/-kandidaten zur Kommunalwahl 2023
END:VEVENT
END:VCALENDAR
