BEGIN:VCALENDAR
VERSION:2.0
PRODID:-//hacksw/handcal//NONSGML v1.0//EN
BEGIN:VEVENT
DTSTAMP:20221103T080000Z
DTSTART:20221103T080000Z
DTEND:20221103T080000Z
LOCATION:Plenarsaal, Kiel, Deutschland
SUMMARY:Sozialausschuss Landtag: Expertenanhörung zum Thema Corona
END:VEVENT
END:VCALENDAR
