BEGIN:VCALENDAR
VERSION:2.0
PRODID:-//hacksw/handcal//NONSGML v1.0//EN
BEGIN:VEVENT
DTSTAMP:20221102T160000Z
DTSTART:20221102T160000Z
DTEND:20221102T160000Z
LOCATION:Stiftung Herzogtum Lauenburg, Hauptstraße 150, Mölln, Deutschland
SUMMARY:Fraktionssitzung Kreistag: Gespräch mit dem Vorstand der Stiftung Hzgt Lbg
END:VEVENT
END:VCALENDAR
