BEGIN:VCALENDAR
VERSION:2.0
PRODID:-//hacksw/handcal//NONSGML v1.0//EN
BEGIN:VEVENT
DTSTAMP:20221102T120000Z
DTSTART:20221102T120000Z
DTEND:20221102T120000Z
SUMMARY:FAK Soziales: Gespräch (Frauen, Sucht, Gesundheit)
END:VEVENT
END:VCALENDAR
