BEGIN:VCALENDAR
VERSION:2.0
PRODID:-//hacksw/handcal//NONSGML v1.0//EN
BEGIN:VEVENT
DTSTAMP:20221102T090000Z
DTSTART:20221102T090000Z
DTEND:20221102T090000Z
SUMMARY:FAK Soziales: Gespräch mit Verband "Wir pflegen e.V."
END:VEVENT
END:VCALENDAR
