BEGIN:VCALENDAR
VERSION:2.0
PRODID:-//hacksw/handcal//NONSGML v1.0//EN
BEGIN:VEVENT
DTSTAMP:20221102T180000Z
DTSTART:20221102T180000Z
DTEND:20221102T180000Z
LOCATION:Rosalie, Dorfstr. 21, Breitenfelde, Deutschland
SUMMARY:CDU Kreisparteitag mit Ministerin Dr. Sabine Sütterlin-Waack
END:VEVENT
END:VCALENDAR
