BEGIN:VCALENDAR
VERSION:2.0
PRODID:-//hacksw/handcal//NONSGML v1.0//EN
BEGIN:VEVENT
DTSTAMP:20220919T090000Z
DTSTART:20220919T090000Z
DTEND:20220919T090000Z
SUMMARY:Fachgespräch digital "Potentiale nutzen - Inklusiven Arbeitsmarkt stärken"
END:VEVENT
END:VCALENDAR
