BEGIN:VCALENDAR
VERSION:2.0
PRODID:-//hacksw/handcal//NONSGML v1.0//EN
BEGIN:VEVENT
DTSTAMP:20220908T070000Z
DTSTART:20220908T070000Z
DTEND:20220908T070000Z
SUMMARY:FAK Soziales
END:VEVENT
END:VCALENDAR
