BEGIN:VCALENDAR
VERSION:2.0
PRODID:-//hacksw/handcal//NONSGML v1.0//EN
BEGIN:VEVENT
DTSTAMP:20220907T163000Z
DTSTART:20220907T163000Z
DTEND:20220907T163000Z
SUMMARY:Eröffnungsfeier Green Screen, 16. Internationales Naturfilmfestival
END:VEVENT
END:VCALENDAR
