BEGIN:VCALENDAR
VERSION:2.0
PRODID:-//hacksw/handcal//NONSGML v1.0//EN
BEGIN:VEVENT
DTSTAMP:20220903T130000Z
DTSTART:20220903T130000Z
DTEND:20220903T130000Z
SUMMARY:NORLA (Stand CDU)
END:VEVENT
END:VCALENDAR
