BEGIN:VCALENDAR
VERSION:2.0
PRODID:-//hacksw/handcal//NONSGML v1.0//EN
BEGIN:VEVENT
DTSTAMP:20220819T150000Z
DTSTART:20220819T150000Z
DTEND:20220819T150000Z
SUMMARY:Sommerempfang Otto-von-Bismarck-Stiftung, Friedrichsruh
END:VEVENT
END:VCALENDAR
