BEGIN:VCALENDAR
VERSION:2.0
PRODID:-//hacksw/handcal//NONSGML v1.0//EN
BEGIN:VEVENT
DTSTAMP:20220817T090000Z
DTSTART:20220817T090000Z
DTEND:20220817T090000Z
SUMMARY:Wahlkreistermin in Aumühle
END:VEVENT
END:VCALENDAR
