BEGIN:VCALENDAR
VERSION:2.0
PRODID:-//hacksw/handcal//NONSGML v1.0//EN
BEGIN:VEVENT
DTSTAMP:20220811T130000Z
DTSTART:20220811T130000Z
DTEND:20220811T130000Z
SUMMARY:Bundespolizei: Abschluss Panther Challenge
END:VEVENT
END:VCALENDAR
