BEGIN:VCALENDAR
VERSION:2.0
PRODID:-//hacksw/handcal//NONSGML v1.0//EN
BEGIN:VEVENT
DTSTAMP:20220814T080000Z
DTSTART:20220814T080000Z
DTEND:20220815T150000Z
SUMMARY:Klausurtagung CDU-Landtagsfraktion
END:VEVENT
END:VCALENDAR
