BEGIN:VCALENDAR
VERSION:2.0
PRODID:-//hacksw/handcal//NONSGML v1.0//EN
BEGIN:VEVENT
DTSTAMP:20220629T080000Z
DTSTART:20220629T080000Z
DTEND:20220701T130000Z
SUMMARY:Sitzung Schleswig-Holsteinischer Landtag mit Wahl Ministerpräsident
END:VEVENT
END:VCALENDAR
