BEGIN:VCALENDAR
VERSION:2.0
PRODID:-//hacksw/handcal//NONSGML v1.0//EN
BEGIN:VEVENT
DTSTAMP:20220607T090000Z
DTSTART:20220607T090000Z
DTEND:20220607T120000Z
SUMMARY:Konstituierende Sitzung Schleswig-Holsteinischer Landtag
END:VEVENT
END:VCALENDAR
