BEGIN:VCALENDAR
VERSION:2.0
PRODID:-//hacksw/handcal//NONSGML v1.0//EN
BEGIN:VEVENT
DTSTAMP:20220607T073000Z
DTSTART:20220607T073000Z
DTEND:20220607T083000Z
SUMMARY:Ökumenischer Gottesdienst anlässlich der konstituierenden Landtagssitzung
END:VEVENT
END:VCALENDAR
