BEGIN:VCALENDAR
VERSION:2.0
PRODID:-//hacksw/handcal//NONSGML v1.0//EN
BEGIN:VEVENT
DTSTAMP:20220501T121500Z
DTSTART:20220501T121500Z
DTEND:20220501T131500Z
SUMMARY:Besuch Maibaumfest in Grünhof-Tesperhude
END:VEVENT
END:VCALENDAR
