BEGIN:VCALENDAR
VERSION:2.0
PRODID:-//hacksw/handcal//NONSGML v1.0//EN
BEGIN:VEVENT
DTSTAMP:20220501T090000Z
DTSTART:20220501T090000Z
DTEND:20220501T100000Z
SUMMARY:Maibaumaufstellen in Wohltorf, gemeinsam mit Aumühle
END:VEVENT
END:VCALENDAR
