BEGIN:VCALENDAR
VERSION:2.0
PRODID:-//hacksw/handcal//NONSGML v1.0//EN
BEGIN:VEVENT
DTSTAMP:20220507T100000Z
DTSTART:20220507T100000Z
DTEND:20220507T110000Z
SUMMARY:Wahlkampfstand in Geesthacht, Wochenmarkt und Fußgängerzone
END:VEVENT
END:VCALENDAR
