BEGIN:VCALENDAR
VERSION:2.0
PRODID:-//hacksw/handcal//NONSGML v1.0//EN
BEGIN:VEVENT
DTSTAMP:20220507T060000Z
DTSTART:20220507T060000Z
DTEND:20220507T064000Z
SUMMARY:Wahlkampfstand in Aumühle und Wohltorf, Große Straße 
END:VEVENT
END:VCALENDAR
