BEGIN:VCALENDAR
VERSION:2.0
PRODID:-//hacksw/handcal//NONSGML v1.0//EN
BEGIN:VEVENT
DTSTAMP:20220503T050000Z
DTSTART:20220503T050000Z
DTEND:20220503T060000Z
SUMMARY:Aktion am S-Bahnhof Aumühle
END:VEVENT
END:VCALENDAR
