BEGIN:VCALENDAR
VERSION:2.0
PRODID:-//hacksw/handcal//NONSGML v1.0//EN
BEGIN:VEVENT
DTSTAMP:20220409T154500Z
DTSTART:20220409T154500Z
DTEND:20220409T154500Z
LOCATION:Fußgängerzone, Bergedorfer Straße, Geesthacht, 21502, Deutschland
SUMMARY:Daniel Günther in Geesthacht!
END:VEVENT
END:VCALENDAR
