BEGIN:VCALENDAR
VERSION:2.0
PRODID:-//hacksw/handcal//NONSGML v1.0//EN
BEGIN:VEVENT
DTSTAMP:20220420T113000Z
DTSTART:20220420T113000Z
DTEND:20220420T113000Z
LOCATION:Alter Markt, Schwarzenbek, 21493, Deutschland
SUMMARY:Daniel Günther in Schwarzenbek!
END:VEVENT
END:VCALENDAR
