BEGIN:VCALENDAR
VERSION:2.0
PRODID:-//hacksw/handcal//NONSGML v1.0//EN
BEGIN:VEVENT
DTSTAMP:20220421T170000Z
DTSTART:20220421T170000Z
DTEND:20220421T170000Z
SUMMARY: Veranstaltung mit Verbraucherschutzminister Claus Christian Claussen
END:VEVENT
END:VCALENDAR
