BEGIN:VCALENDAR
VERSION:2.0
PRODID:-//hacksw/handcal//NONSGML v1.0//EN
BEGIN:VEVENT
DTSTAMP:20220416T110000Z
DTSTART:20220416T110000Z
DTEND:20220416T150000Z
SUMMARY:Frühjahrsfahrtag zu Ostern 2022 der Eisenbahnfreunde Schwarzenbek e.V.
END:VEVENT
END:VCALENDAR
