BEGIN:VCALENDAR
VERSION:2.0
PRODID:-//hacksw/handcal//NONSGML v1.0//EN
BEGIN:VEVENT
DTSTAMP:20220409T060000Z
DTSTART:20220409T060000Z
DTEND:20220409T080000Z
SUMMARY:Auf einen Kaffee mit Andrea Tschacher (MdL) und der CDU Escheburg
END:VEVENT
END:VCALENDAR
