BEGIN:VCALENDAR
VERSION:2.0
PRODID:-//hacksw/handcal//NONSGML v1.0//EN
BEGIN:VEVENT
DTSTAMP:20220421T070000Z
DTSTART:20220421T070000Z
DTEND:20220421T080000Z
SUMMARY:Fraktionsarbeitskreis Soziales
END:VEVENT
END:VCALENDAR
