BEGIN:VCALENDAR
VERSION:2.0
PRODID:-//hacksw/handcal//NONSGML v1.0//EN
BEGIN:VEVENT
DTSTAMP:20220329T173000Z
DTSTART:20220329T173000Z
DTEND:20220329T193000Z
SUMMARY:Veranstaltung im Wahlkreis 
END:VEVENT
END:VCALENDAR
