BEGIN:VCALENDAR
VERSION:2.0
PRODID:-//hacksw/handcal//NONSGML v1.0//EN
BEGIN:VEVENT
DTSTAMP:20220328T130000Z
DTSTART:20220328T130000Z
DTEND:20220328T150000Z
SUMMARY:Sozialausschuss Schleswig-Holsteinischer Landtag: Fachgespräch Geburtshilfe
END:VEVENT
END:VCALENDAR
