BEGIN:VCALENDAR
VERSION:2.0
PRODID:-//hacksw/handcal//NONSGML v1.0//EN
BEGIN:VEVENT
DTSTAMP:20220328T080000Z
DTSTART:20220328T080000Z
DTEND:20220328T093000Z
SUMMARY:Fraktionsarbeitskreis Soziales: Gespräch
END:VEVENT
END:VCALENDAR
