BEGIN:VCALENDAR
VERSION:2.0
PRODID:-//hacksw/handcal//NONSGML v1.0//EN
BEGIN:VEVENT
DTSTAMP:20220324T170000Z
DTSTART:20220324T170000Z
DTEND:20220324T193000Z
SUMMARY:Parlamentarischer Abend: "Meer Zukunft"
END:VEVENT
END:VCALENDAR
